BEGIN:VCALENDAR
VERSION:2.0
PRODID:-//Olive Branch Cooking - ECPv6.15.20//NONSGML v1.0//EN
CALSCALE:GREGORIAN
METHOD:PUBLISH
X-WR-CALNAME:Olive Branch Cooking
X-ORIGINAL-URL:https://olivebranchcooking.co.za
X-WR-CALDESC:Events for Olive Branch Cooking
REFRESH-INTERVAL;VALUE=DURATION:PT1H
X-Robots-Tag:noindex
X-PUBLISHED-TTL:PT1H
BEGIN:VTIMEZONE
TZID:UTC
BEGIN:STANDARD
TZOFFSETFROM:+0000
TZOFFSETTO:+0000
TZNAME:UTC
DTSTART:20250101T000000
END:STANDARD
END:VTIMEZONE
BEGIN:VEVENT
DTSTART;TZID=UTC:20260328T183000
DTEND;TZID=UTC:20260328T213000
DTSTAMP:20260419T120625
CREATED:20260108T161847Z
LAST-MODIFIED:20260108T161847Z
UID:4751-1774722600-1774733400@olivebranchcooking.co.za
SUMMARY:Lebanese Food Cooking Class
DESCRIPTION:Lebanese food Cooking Class for you to explore cooking in different styles and featuring delicious and tasty food.  You’ll cook the dishes\, eat them and then take the recipes home! \nReserve your spot now!
URL:https://olivebranchcooking.co.za/event/lebanese-food-cooking-class/
LOCATION:Olive Branch Cooking School\, Rustic Timber & Garden Centre\, 42 Witkoppen Rd\, cnr Kingfisher Avenue\, Fourways\, Gauteng\, South Africa
CATEGORIES:Cooking,Cooking Classes,Entertaining Cooking,Swiss Food
ATTACH;FMTTYPE=image/png:https://olivebranchcooking.co.za/wp-content/uploads/2026/01/lebanese-inspired-cooking-class.png
ORGANIZER;CN="Olive Branch Cookery School":MAILTO:cooking@olivebranchcooking.co.za
END:VEVENT
END:VCALENDAR